BEGIN:VCALENDAR
VERSION:2.0
PRODID:-//Links of Sandpiper - ECPv6.15.10//NONSGML v1.0//EN
CALSCALE:GREGORIAN
METHOD:PUBLISH
X-WR-CALNAME:Links of Sandpiper
X-ORIGINAL-URL:https://linksofsandpiper.com
X-WR-CALDESC:Events for Links of Sandpiper
REFRESH-INTERVAL;VALUE=DURATION:PT1H
X-Robots-Tag:noindex
X-PUBLISHED-TTL:PT1H
BEGIN:VTIMEZONE
TZID:America/New_York
BEGIN:DAYLIGHT
TZOFFSETFROM:-0500
TZOFFSETTO:-0400
TZNAME:EDT
DTSTART:20250309T070000
END:DAYLIGHT
BEGIN:STANDARD
TZOFFSETFROM:-0400
TZOFFSETTO:-0500
TZNAME:EST
DTSTART:20251102T060000
END:STANDARD
BEGIN:DAYLIGHT
TZOFFSETFROM:-0500
TZOFFSETTO:-0400
TZNAME:EDT
DTSTART:20260308T070000
END:DAYLIGHT
BEGIN:STANDARD
TZOFFSETFROM:-0400
TZOFFSETTO:-0500
TZNAME:EST
DTSTART:20261101T060000
END:STANDARD
BEGIN:DAYLIGHT
TZOFFSETFROM:-0500
TZOFFSETTO:-0400
TZNAME:EDT
DTSTART:20270314T070000
END:DAYLIGHT
BEGIN:STANDARD
TZOFFSETFROM:-0400
TZOFFSETTO:-0500
TZNAME:EST
DTSTART:20271107T060000
END:STANDARD
END:VTIMEZONE
BEGIN:VEVENT
DTSTART;VALUE=DATE:20261201
DTEND;VALUE=DATE:20261202
DTSTAMP:20260423T155938
CREATED:20220828T202954Z
LAST-MODIFIED:20220828T202954Z
UID:2520-1796083200-1796169599@linksofsandpiper.com
SUMMARY:Fiesta Tuesday
DESCRIPTION:
URL:https://linksofsandpiper.com/event/fiesta-tuesday-2026-12-01/
END:VEVENT
BEGIN:VEVENT
DTSTART;TZID=America/New_York:20261202T183000
DTEND;TZID=America/New_York:20261202T203000
DTSTAMP:20260423T155938
CREATED:20220828T201031Z
LAST-MODIFIED:20220828T201031Z
UID:2521-1796236200-1796243400@linksofsandpiper.com
SUMMARY:Trivia @ 6:30PM
DESCRIPTION:
URL:https://linksofsandpiper.com/event/trivia-700pm-2026-12-02/
END:VEVENT
BEGIN:VEVENT
DTSTART;VALUE=DATE:20261204
DTEND;VALUE=DATE:20261205
DTSTAMP:20260423T155938
CREATED:20220828T203138Z
LAST-MODIFIED:20220828T203138Z
UID:2522-1796342400-1796428799@linksofsandpiper.com
SUMMARY:Fish Friday
DESCRIPTION:
URL:https://linksofsandpiper.com/event/fish-friday-2026-12-04/
END:VEVENT
BEGIN:VEVENT
DTSTART;TZID=America/New_York:20261207T183000
DTEND;TZID=America/New_York:20261207T203000
DTSTAMP:20260423T155938
CREATED:20220828T203102Z
LAST-MODIFIED:20220828T203102Z
UID:2523-1796668200-1796675400@linksofsandpiper.com
SUMMARY:BINGO! @ 6:30pm
DESCRIPTION:
URL:https://linksofsandpiper.com/event/bingo-630pm-2026-12-07/
END:VEVENT
BEGIN:VEVENT
DTSTART;VALUE=DATE:20261208
DTEND;VALUE=DATE:20261209
DTSTAMP:20260423T155938
CREATED:20220828T202954Z
LAST-MODIFIED:20220828T202954Z
UID:2524-1796688000-1796774399@linksofsandpiper.com
SUMMARY:Fiesta Tuesday
DESCRIPTION:
URL:https://linksofsandpiper.com/event/fiesta-tuesday-2026-12-08/
END:VEVENT
BEGIN:VEVENT
DTSTART;TZID=America/New_York:20261209T183000
DTEND;TZID=America/New_York:20261209T203000
DTSTAMP:20260423T155938
CREATED:20220828T201031Z
LAST-MODIFIED:20220828T201031Z
UID:2525-1796841000-1796848200@linksofsandpiper.com
SUMMARY:Trivia @ 6:30PM
DESCRIPTION:
URL:https://linksofsandpiper.com/event/trivia-700pm-2026-12-09/
END:VEVENT
BEGIN:VEVENT
DTSTART;VALUE=DATE:20261211
DTEND;VALUE=DATE:20261212
DTSTAMP:20260423T155938
CREATED:20220828T203138Z
LAST-MODIFIED:20220828T203138Z
UID:2526-1796947200-1797033599@linksofsandpiper.com
SUMMARY:Fish Friday
DESCRIPTION:
URL:https://linksofsandpiper.com/event/fish-friday-2026-12-11/
END:VEVENT
BEGIN:VEVENT
DTSTART;TZID=America/New_York:20261214T183000
DTEND;TZID=America/New_York:20261214T203000
DTSTAMP:20260423T155938
CREATED:20220828T203102Z
LAST-MODIFIED:20220828T203102Z
UID:2527-1797273000-1797280200@linksofsandpiper.com
SUMMARY:BINGO! @ 6:30pm
DESCRIPTION:
URL:https://linksofsandpiper.com/event/bingo-630pm-2026-12-14/
END:VEVENT
BEGIN:VEVENT
DTSTART;VALUE=DATE:20261215
DTEND;VALUE=DATE:20261216
DTSTAMP:20260423T155938
CREATED:20220828T202954Z
LAST-MODIFIED:20220828T202954Z
UID:2528-1797292800-1797379199@linksofsandpiper.com
SUMMARY:Fiesta Tuesday
DESCRIPTION:
URL:https://linksofsandpiper.com/event/fiesta-tuesday-2026-12-15/
END:VEVENT
BEGIN:VEVENT
DTSTART;TZID=America/New_York:20261216T183000
DTEND;TZID=America/New_York:20261216T203000
DTSTAMP:20260423T155938
CREATED:20220828T201031Z
LAST-MODIFIED:20220828T201031Z
UID:2529-1797445800-1797453000@linksofsandpiper.com
SUMMARY:Trivia @ 6:30PM
DESCRIPTION:
URL:https://linksofsandpiper.com/event/trivia-700pm-2026-12-16/
END:VEVENT
BEGIN:VEVENT
DTSTART;VALUE=DATE:20261218
DTEND;VALUE=DATE:20261219
DTSTAMP:20260423T155938
CREATED:20220828T203138Z
LAST-MODIFIED:20220828T203138Z
UID:2530-1797552000-1797638399@linksofsandpiper.com
SUMMARY:Fish Friday
DESCRIPTION:
URL:https://linksofsandpiper.com/event/fish-friday-2026-12-18/
END:VEVENT
BEGIN:VEVENT
DTSTART;TZID=America/New_York:20261221T183000
DTEND;TZID=America/New_York:20261221T203000
DTSTAMP:20260423T155938
CREATED:20220828T203102Z
LAST-MODIFIED:20220828T203102Z
UID:2531-1797877800-1797885000@linksofsandpiper.com
SUMMARY:BINGO! @ 6:30pm
DESCRIPTION:
URL:https://linksofsandpiper.com/event/bingo-630pm-2026-12-21/
END:VEVENT
BEGIN:VEVENT
DTSTART;VALUE=DATE:20261222
DTEND;VALUE=DATE:20261223
DTSTAMP:20260423T155938
CREATED:20220828T202954Z
LAST-MODIFIED:20220828T202954Z
UID:2532-1797897600-1797983999@linksofsandpiper.com
SUMMARY:Fiesta Tuesday
DESCRIPTION:
URL:https://linksofsandpiper.com/event/fiesta-tuesday-2026-12-22/
END:VEVENT
BEGIN:VEVENT
DTSTART;TZID=America/New_York:20261223T183000
DTEND;TZID=America/New_York:20261223T203000
DTSTAMP:20260423T155938
CREATED:20220828T201031Z
LAST-MODIFIED:20220828T201031Z
UID:2533-1798050600-1798057800@linksofsandpiper.com
SUMMARY:Trivia @ 6:30PM
DESCRIPTION:
URL:https://linksofsandpiper.com/event/trivia-700pm-2026-12-23/
END:VEVENT
BEGIN:VEVENT
DTSTART;VALUE=DATE:20261225
DTEND;VALUE=DATE:20261226
DTSTAMP:20260423T155938
CREATED:20220828T203138Z
LAST-MODIFIED:20220828T203138Z
UID:2534-1798156800-1798243199@linksofsandpiper.com
SUMMARY:Fish Friday
DESCRIPTION:
URL:https://linksofsandpiper.com/event/fish-friday-2026-12-25/
END:VEVENT
BEGIN:VEVENT
DTSTART;TZID=America/New_York:20261228T183000
DTEND;TZID=America/New_York:20261228T203000
DTSTAMP:20260423T155938
CREATED:20220828T203102Z
LAST-MODIFIED:20220828T203102Z
UID:2535-1798482600-1798489800@linksofsandpiper.com
SUMMARY:BINGO! @ 6:30pm
DESCRIPTION:
URL:https://linksofsandpiper.com/event/bingo-630pm-2026-12-28/
END:VEVENT
BEGIN:VEVENT
DTSTART;VALUE=DATE:20261229
DTEND;VALUE=DATE:20261230
DTSTAMP:20260423T155938
CREATED:20220828T202954Z
LAST-MODIFIED:20220828T202954Z
UID:2536-1798502400-1798588799@linksofsandpiper.com
SUMMARY:Fiesta Tuesday
DESCRIPTION:
URL:https://linksofsandpiper.com/event/fiesta-tuesday-2026-12-29/
END:VEVENT
BEGIN:VEVENT
DTSTART;TZID=America/New_York:20261230T183000
DTEND;TZID=America/New_York:20261230T203000
DTSTAMP:20260423T155938
CREATED:20220828T201031Z
LAST-MODIFIED:20220828T201031Z
UID:2537-1798655400-1798662600@linksofsandpiper.com
SUMMARY:Trivia @ 6:30PM
DESCRIPTION:
URL:https://linksofsandpiper.com/event/trivia-700pm-2026-12-30/
END:VEVENT
END:VCALENDAR