BEGIN:VCALENDAR
VERSION:2.0
PRODID:-//Links of Sandpiper - ECPv6.15.10//NONSGML v1.0//EN
CALSCALE:GREGORIAN
METHOD:PUBLISH
X-WR-CALNAME:Links of Sandpiper
X-ORIGINAL-URL:https://linksofsandpiper.com
X-WR-CALDESC:Events for Links of Sandpiper
REFRESH-INTERVAL;VALUE=DURATION:PT1H
X-Robots-Tag:noindex
X-PUBLISHED-TTL:PT1H
BEGIN:VTIMEZONE
TZID:America/New_York
BEGIN:DAYLIGHT
TZOFFSETFROM:-0500
TZOFFSETTO:-0400
TZNAME:EDT
DTSTART:20250309T070000
END:DAYLIGHT
BEGIN:STANDARD
TZOFFSETFROM:-0400
TZOFFSETTO:-0500
TZNAME:EST
DTSTART:20251102T060000
END:STANDARD
BEGIN:DAYLIGHT
TZOFFSETFROM:-0500
TZOFFSETTO:-0400
TZNAME:EDT
DTSTART:20260308T070000
END:DAYLIGHT
BEGIN:STANDARD
TZOFFSETFROM:-0400
TZOFFSETTO:-0500
TZNAME:EST
DTSTART:20261101T060000
END:STANDARD
BEGIN:DAYLIGHT
TZOFFSETFROM:-0500
TZOFFSETTO:-0400
TZNAME:EDT
DTSTART:20270314T070000
END:DAYLIGHT
BEGIN:STANDARD
TZOFFSETFROM:-0400
TZOFFSETTO:-0500
TZNAME:EST
DTSTART:20271107T060000
END:STANDARD
END:VTIMEZONE
BEGIN:VEVENT
DTSTART;VALUE=DATE:20261002
DTEND;VALUE=DATE:20261003
DTSTAMP:20260423T133010
CREATED:20220828T203138Z
LAST-MODIFIED:20220828T203138Z
UID:2485-1790899200-1790985599@linksofsandpiper.com
SUMMARY:Fish Friday
DESCRIPTION:
URL:https://linksofsandpiper.com/event/fish-friday-2026-10-02/
END:VEVENT
BEGIN:VEVENT
DTSTART;TZID=America/New_York:20261005T183000
DTEND;TZID=America/New_York:20261005T203000
DTSTAMP:20260423T133010
CREATED:20220828T203102Z
LAST-MODIFIED:20220828T203102Z
UID:2486-1791225000-1791232200@linksofsandpiper.com
SUMMARY:BINGO! @ 6:30pm
DESCRIPTION:
URL:https://linksofsandpiper.com/event/bingo-630pm-2026-10-05/
END:VEVENT
BEGIN:VEVENT
DTSTART;VALUE=DATE:20261006
DTEND;VALUE=DATE:20261007
DTSTAMP:20260423T133010
CREATED:20220828T202954Z
LAST-MODIFIED:20220828T202954Z
UID:2487-1791244800-1791331199@linksofsandpiper.com
SUMMARY:Fiesta Tuesday
DESCRIPTION:
URL:https://linksofsandpiper.com/event/fiesta-tuesday-2026-10-06/
END:VEVENT
BEGIN:VEVENT
DTSTART;TZID=America/New_York:20261007T183000
DTEND;TZID=America/New_York:20261007T203000
DTSTAMP:20260423T133010
CREATED:20220828T201031Z
LAST-MODIFIED:20220828T201031Z
UID:2488-1791397800-1791405000@linksofsandpiper.com
SUMMARY:Trivia @ 6:30PM
DESCRIPTION:
URL:https://linksofsandpiper.com/event/trivia-700pm-2026-10-07/
END:VEVENT
BEGIN:VEVENT
DTSTART;VALUE=DATE:20261009
DTEND;VALUE=DATE:20261010
DTSTAMP:20260423T133010
CREATED:20220828T203138Z
LAST-MODIFIED:20220828T203138Z
UID:2489-1791504000-1791590399@linksofsandpiper.com
SUMMARY:Fish Friday
DESCRIPTION:
URL:https://linksofsandpiper.com/event/fish-friday-2026-10-09/
END:VEVENT
BEGIN:VEVENT
DTSTART;TZID=America/New_York:20261012T183000
DTEND;TZID=America/New_York:20261012T203000
DTSTAMP:20260423T133010
CREATED:20220828T203102Z
LAST-MODIFIED:20220828T203102Z
UID:2491-1791829800-1791837000@linksofsandpiper.com
SUMMARY:BINGO! @ 6:30pm
DESCRIPTION:
URL:https://linksofsandpiper.com/event/bingo-630pm-2026-10-12/
END:VEVENT
BEGIN:VEVENT
DTSTART;VALUE=DATE:20261013
DTEND;VALUE=DATE:20261014
DTSTAMP:20260423T133010
CREATED:20220828T202954Z
LAST-MODIFIED:20220828T202954Z
UID:2492-1791849600-1791935999@linksofsandpiper.com
SUMMARY:Fiesta Tuesday
DESCRIPTION:
URL:https://linksofsandpiper.com/event/fiesta-tuesday-2026-10-13/
END:VEVENT
BEGIN:VEVENT
DTSTART;TZID=America/New_York:20261014T183000
DTEND;TZID=America/New_York:20261014T203000
DTSTAMP:20260423T133010
CREATED:20220828T201031Z
LAST-MODIFIED:20220828T201031Z
UID:2493-1792002600-1792009800@linksofsandpiper.com
SUMMARY:Trivia @ 6:30PM
DESCRIPTION:
URL:https://linksofsandpiper.com/event/trivia-700pm-2026-10-14/
END:VEVENT
BEGIN:VEVENT
DTSTART;VALUE=DATE:20261016
DTEND;VALUE=DATE:20261017
DTSTAMP:20260423T133010
CREATED:20220828T203138Z
LAST-MODIFIED:20220828T203138Z
UID:2494-1792108800-1792195199@linksofsandpiper.com
SUMMARY:Fish Friday
DESCRIPTION:
URL:https://linksofsandpiper.com/event/fish-friday-2026-10-16/
END:VEVENT
BEGIN:VEVENT
DTSTART;TZID=America/New_York:20261019T183000
DTEND;TZID=America/New_York:20261019T203000
DTSTAMP:20260423T133010
CREATED:20220828T203102Z
LAST-MODIFIED:20220828T203102Z
UID:2495-1792434600-1792441800@linksofsandpiper.com
SUMMARY:BINGO! @ 6:30pm
DESCRIPTION:
URL:https://linksofsandpiper.com/event/bingo-630pm-2026-10-19/
END:VEVENT
BEGIN:VEVENT
DTSTART;VALUE=DATE:20261020
DTEND;VALUE=DATE:20261021
DTSTAMP:20260423T133010
CREATED:20220828T202954Z
LAST-MODIFIED:20220828T202954Z
UID:2496-1792454400-1792540799@linksofsandpiper.com
SUMMARY:Fiesta Tuesday
DESCRIPTION:
URL:https://linksofsandpiper.com/event/fiesta-tuesday-2026-10-20/
END:VEVENT
BEGIN:VEVENT
DTSTART;TZID=America/New_York:20261021T183000
DTEND;TZID=America/New_York:20261021T203000
DTSTAMP:20260423T133010
CREATED:20220828T201031Z
LAST-MODIFIED:20220828T201031Z
UID:2497-1792607400-1792614600@linksofsandpiper.com
SUMMARY:Trivia @ 6:30PM
DESCRIPTION:
URL:https://linksofsandpiper.com/event/trivia-700pm-2026-10-21/
END:VEVENT
BEGIN:VEVENT
DTSTART;VALUE=DATE:20261023
DTEND;VALUE=DATE:20261024
DTSTAMP:20260423T133010
CREATED:20220828T203138Z
LAST-MODIFIED:20220828T203138Z
UID:2498-1792713600-1792799999@linksofsandpiper.com
SUMMARY:Fish Friday
DESCRIPTION:
URL:https://linksofsandpiper.com/event/fish-friday-2026-10-23/
END:VEVENT
BEGIN:VEVENT
DTSTART;TZID=America/New_York:20261026T183000
DTEND;TZID=America/New_York:20261026T203000
DTSTAMP:20260423T133010
CREATED:20220828T203102Z
LAST-MODIFIED:20220828T203102Z
UID:2499-1793039400-1793046600@linksofsandpiper.com
SUMMARY:BINGO! @ 6:30pm
DESCRIPTION:
URL:https://linksofsandpiper.com/event/bingo-630pm-2026-10-26/
END:VEVENT
BEGIN:VEVENT
DTSTART;VALUE=DATE:20261027
DTEND;VALUE=DATE:20261028
DTSTAMP:20260423T133010
CREATED:20220828T202954Z
LAST-MODIFIED:20220828T202954Z
UID:2500-1793059200-1793145599@linksofsandpiper.com
SUMMARY:Fiesta Tuesday
DESCRIPTION:
URL:https://linksofsandpiper.com/event/fiesta-tuesday-2026-10-27/
END:VEVENT
BEGIN:VEVENT
DTSTART;TZID=America/New_York:20261028T183000
DTEND;TZID=America/New_York:20261028T203000
DTSTAMP:20260423T133010
CREATED:20220828T201031Z
LAST-MODIFIED:20220828T201031Z
UID:2501-1793212200-1793219400@linksofsandpiper.com
SUMMARY:Trivia @ 6:30PM
DESCRIPTION:
URL:https://linksofsandpiper.com/event/trivia-700pm-2026-10-28/
END:VEVENT
BEGIN:VEVENT
DTSTART;VALUE=DATE:20261030
DTEND;VALUE=DATE:20261031
DTSTAMP:20260423T133010
CREATED:20220828T203138Z
LAST-MODIFIED:20220828T203138Z
UID:2502-1793318400-1793404799@linksofsandpiper.com
SUMMARY:Fish Friday
DESCRIPTION:
URL:https://linksofsandpiper.com/event/fish-friday-2026-10-30/
END:VEVENT
END:VCALENDAR