BEGIN:VCALENDAR
VERSION:2.0
PRODID:-//Links of Sandpiper - ECPv6.15.10//NONSGML v1.0//EN
CALSCALE:GREGORIAN
METHOD:PUBLISH
X-ORIGINAL-URL:https://linksofsandpiper.com
X-WR-CALDESC:Events for Links of Sandpiper
REFRESH-INTERVAL;VALUE=DURATION:PT1H
X-Robots-Tag:noindex
X-PUBLISHED-TTL:PT1H
BEGIN:VTIMEZONE
TZID:America/New_York
BEGIN:DAYLIGHT
TZOFFSETFROM:-0500
TZOFFSETTO:-0400
TZNAME:EDT
DTSTART:20250309T070000
END:DAYLIGHT
BEGIN:STANDARD
TZOFFSETFROM:-0400
TZOFFSETTO:-0500
TZNAME:EST
DTSTART:20251102T060000
END:STANDARD
BEGIN:DAYLIGHT
TZOFFSETFROM:-0500
TZOFFSETTO:-0400
TZNAME:EDT
DTSTART:20260308T070000
END:DAYLIGHT
BEGIN:STANDARD
TZOFFSETFROM:-0400
TZOFFSETTO:-0500
TZNAME:EST
DTSTART:20261101T060000
END:STANDARD
BEGIN:DAYLIGHT
TZOFFSETFROM:-0500
TZOFFSETTO:-0400
TZNAME:EDT
DTSTART:20270314T070000
END:DAYLIGHT
BEGIN:STANDARD
TZOFFSETFROM:-0400
TZOFFSETTO:-0500
TZNAME:EST
DTSTART:20271107T060000
END:STANDARD
END:VTIMEZONE
BEGIN:VEVENT
DTSTART;TZID=America/New_York:20260803T183000
DTEND;TZID=America/New_York:20260803T203000
DTSTAMP:20260423T105056
CREATED:20220828T203102Z
LAST-MODIFIED:20220828T203102Z
UID:2444-1785781800-1785789000@linksofsandpiper.com
SUMMARY:BINGO! @ 6:30pm
DESCRIPTION:
URL:https://linksofsandpiper.com/event/bingo-630pm-2026-08-03/
END:VEVENT
BEGIN:VEVENT
DTSTART;VALUE=DATE:20260804
DTEND;VALUE=DATE:20260805
DTSTAMP:20260423T105056
CREATED:20220828T202954Z
LAST-MODIFIED:20220828T202954Z
UID:2445-1785801600-1785887999@linksofsandpiper.com
SUMMARY:Fiesta Tuesday
DESCRIPTION:
URL:https://linksofsandpiper.com/event/fiesta-tuesday-2026-08-04/
END:VEVENT
BEGIN:VEVENT
DTSTART;TZID=America/New_York:20260805T183000
DTEND;TZID=America/New_York:20260805T203000
DTSTAMP:20260423T105056
CREATED:20220828T201031Z
LAST-MODIFIED:20220828T201031Z
UID:2446-1785954600-1785961800@linksofsandpiper.com
SUMMARY:Trivia @ 6:30PM
DESCRIPTION:
URL:https://linksofsandpiper.com/event/trivia-700pm-2026-08-05/
END:VEVENT
BEGIN:VEVENT
DTSTART;VALUE=DATE:20260807
DTEND;VALUE=DATE:20260808
DTSTAMP:20260423T105056
CREATED:20220828T203138Z
LAST-MODIFIED:20220828T203138Z
UID:2447-1786060800-1786147199@linksofsandpiper.com
SUMMARY:Fish Friday
DESCRIPTION:
URL:https://linksofsandpiper.com/event/fish-friday-2026-08-07/
END:VEVENT
BEGIN:VEVENT
DTSTART;TZID=America/New_York:20260810T183000
DTEND;TZID=America/New_York:20260810T203000
DTSTAMP:20260423T105056
CREATED:20220828T203102Z
LAST-MODIFIED:20220828T203102Z
UID:2448-1786386600-1786393800@linksofsandpiper.com
SUMMARY:BINGO! @ 6:30pm
DESCRIPTION:
URL:https://linksofsandpiper.com/event/bingo-630pm-2026-08-10/
END:VEVENT
BEGIN:VEVENT
DTSTART;VALUE=DATE:20260811
DTEND;VALUE=DATE:20260812
DTSTAMP:20260423T105056
CREATED:20220828T202954Z
LAST-MODIFIED:20220828T202954Z
UID:2449-1786406400-1786492799@linksofsandpiper.com
SUMMARY:Fiesta Tuesday
DESCRIPTION:
URL:https://linksofsandpiper.com/event/fiesta-tuesday-2026-08-11/
END:VEVENT
BEGIN:VEVENT
DTSTART;TZID=America/New_York:20260812T183000
DTEND;TZID=America/New_York:20260812T203000
DTSTAMP:20260423T105056
CREATED:20220828T201031Z
LAST-MODIFIED:20220828T201031Z
UID:2450-1786559400-1786566600@linksofsandpiper.com
SUMMARY:Trivia @ 6:30PM
DESCRIPTION:
URL:https://linksofsandpiper.com/event/trivia-700pm-2026-08-12/
END:VEVENT
BEGIN:VEVENT
DTSTART;VALUE=DATE:20260814
DTEND;VALUE=DATE:20260815
DTSTAMP:20260423T105056
CREATED:20220828T203138Z
LAST-MODIFIED:20220828T203138Z
UID:2453-1786665600-1786751999@linksofsandpiper.com
SUMMARY:Fish Friday
DESCRIPTION:
URL:https://linksofsandpiper.com/event/fish-friday-2026-08-14/
END:VEVENT
BEGIN:VEVENT
DTSTART;TZID=America/New_York:20260817T183000
DTEND;TZID=America/New_York:20260817T203000
DTSTAMP:20260423T105056
CREATED:20220828T203102Z
LAST-MODIFIED:20220828T203102Z
UID:2454-1786991400-1786998600@linksofsandpiper.com
SUMMARY:BINGO! @ 6:30pm
DESCRIPTION:
URL:https://linksofsandpiper.com/event/bingo-630pm-2026-08-17/
END:VEVENT
BEGIN:VEVENT
DTSTART;VALUE=DATE:20260818
DTEND;VALUE=DATE:20260819
DTSTAMP:20260423T105056
CREATED:20220828T202954Z
LAST-MODIFIED:20220828T202954Z
UID:2455-1787011200-1787097599@linksofsandpiper.com
SUMMARY:Fiesta Tuesday
DESCRIPTION:
URL:https://linksofsandpiper.com/event/fiesta-tuesday-2026-08-18/
END:VEVENT
BEGIN:VEVENT
DTSTART;TZID=America/New_York:20260819T183000
DTEND;TZID=America/New_York:20260819T203000
DTSTAMP:20260423T105056
CREATED:20220828T201031Z
LAST-MODIFIED:20220828T201031Z
UID:2456-1787164200-1787171400@linksofsandpiper.com
SUMMARY:Trivia @ 6:30PM
DESCRIPTION:
URL:https://linksofsandpiper.com/event/trivia-700pm-2026-08-19/
END:VEVENT
BEGIN:VEVENT
DTSTART;VALUE=DATE:20260821
DTEND;VALUE=DATE:20260822
DTSTAMP:20260423T105056
CREATED:20220828T203138Z
LAST-MODIFIED:20220828T203138Z
UID:2457-1787270400-1787356799@linksofsandpiper.com
SUMMARY:Fish Friday
DESCRIPTION:
URL:https://linksofsandpiper.com/event/fish-friday-2026-08-21/
END:VEVENT
BEGIN:VEVENT
DTSTART;TZID=America/New_York:20260824T183000
DTEND;TZID=America/New_York:20260824T203000
DTSTAMP:20260423T105056
CREATED:20220828T203102Z
LAST-MODIFIED:20220828T203102Z
UID:2458-1787596200-1787603400@linksofsandpiper.com
SUMMARY:BINGO! @ 6:30pm
DESCRIPTION:
URL:https://linksofsandpiper.com/event/bingo-630pm-2026-08-24/
END:VEVENT
BEGIN:VEVENT
DTSTART;VALUE=DATE:20260825
DTEND;VALUE=DATE:20260826
DTSTAMP:20260423T105056
CREATED:20220828T202954Z
LAST-MODIFIED:20220828T202954Z
UID:2459-1787616000-1787702399@linksofsandpiper.com
SUMMARY:Fiesta Tuesday
DESCRIPTION:
URL:https://linksofsandpiper.com/event/fiesta-tuesday-2026-08-25/
END:VEVENT
BEGIN:VEVENT
DTSTART;TZID=America/New_York:20260826T183000
DTEND;TZID=America/New_York:20260826T203000
DTSTAMP:20260423T105056
CREATED:20220828T201031Z
LAST-MODIFIED:20220828T201031Z
UID:2460-1787769000-1787776200@linksofsandpiper.com
SUMMARY:Trivia @ 6:30PM
DESCRIPTION:
URL:https://linksofsandpiper.com/event/trivia-700pm-2026-08-26/
END:VEVENT
BEGIN:VEVENT
DTSTART;VALUE=DATE:20260828
DTEND;VALUE=DATE:20260829
DTSTAMP:20260423T105056
CREATED:20220828T203138Z
LAST-MODIFIED:20220828T203138Z
UID:2461-1787875200-1787961599@linksofsandpiper.com
SUMMARY:Fish Friday
DESCRIPTION:
URL:https://linksofsandpiper.com/event/fish-friday-2026-08-28/
END:VEVENT
BEGIN:VEVENT
DTSTART;TZID=America/New_York:20260831T183000
DTEND;TZID=America/New_York:20260831T203000
DTSTAMP:20260423T105056
CREATED:20220828T203102Z
LAST-MODIFIED:20220828T203102Z
UID:2462-1788201000-1788208200@linksofsandpiper.com
SUMMARY:BINGO! @ 6:30pm
DESCRIPTION:
URL:https://linksofsandpiper.com/event/bingo-630pm-2026-08-31/
END:VEVENT
END:VCALENDAR