BEGIN:VCALENDAR
VERSION:2.0
PRODID:-//Links of Sandpiper - ECPv6.15.10//NONSGML v1.0//EN
CALSCALE:GREGORIAN
METHOD:PUBLISH
X-WR-CALNAME:Links of Sandpiper
X-ORIGINAL-URL:https://linksofsandpiper.com
X-WR-CALDESC:Events for Links of Sandpiper
REFRESH-INTERVAL;VALUE=DURATION:PT1H
X-Robots-Tag:noindex
X-PUBLISHED-TTL:PT1H
BEGIN:VTIMEZONE
TZID:America/New_York
BEGIN:DAYLIGHT
TZOFFSETFROM:-0500
TZOFFSETTO:-0400
TZNAME:EDT
DTSTART:20250309T070000
END:DAYLIGHT
BEGIN:STANDARD
TZOFFSETFROM:-0400
TZOFFSETTO:-0500
TZNAME:EST
DTSTART:20251102T060000
END:STANDARD
BEGIN:DAYLIGHT
TZOFFSETFROM:-0500
TZOFFSETTO:-0400
TZNAME:EDT
DTSTART:20260308T070000
END:DAYLIGHT
BEGIN:STANDARD
TZOFFSETFROM:-0400
TZOFFSETTO:-0500
TZNAME:EST
DTSTART:20261101T060000
END:STANDARD
BEGIN:DAYLIGHT
TZOFFSETFROM:-0500
TZOFFSETTO:-0400
TZNAME:EDT
DTSTART:20270314T070000
END:DAYLIGHT
BEGIN:STANDARD
TZOFFSETFROM:-0400
TZOFFSETTO:-0500
TZNAME:EST
DTSTART:20271107T060000
END:STANDARD
END:VTIMEZONE
BEGIN:VEVENT
DTSTART;TZID=America/New_York:20260302T183000
DTEND;TZID=America/New_York:20260302T203000
DTSTAMP:20260423T062224
CREATED:20220828T203102Z
LAST-MODIFIED:20220828T203102Z
UID:2347-1772476200-1772483400@linksofsandpiper.com
SUMMARY:BINGO! @ 6:30pm
DESCRIPTION:
URL:https://linksofsandpiper.com/event/bingo-630pm-2026-03-02/
END:VEVENT
BEGIN:VEVENT
DTSTART;VALUE=DATE:20260303
DTEND;VALUE=DATE:20260304
DTSTAMP:20260423T062224
CREATED:20220828T202954Z
LAST-MODIFIED:20220828T202954Z
UID:2353-1772496000-1772582399@linksofsandpiper.com
SUMMARY:Fiesta Tuesday
DESCRIPTION:
URL:https://linksofsandpiper.com/event/fiesta-tuesday-2026-03-03/
END:VEVENT
BEGIN:VEVENT
DTSTART;TZID=America/New_York:20260304T183000
DTEND;TZID=America/New_York:20260304T203000
DTSTAMP:20260423T062224
CREATED:20220828T201031Z
LAST-MODIFIED:20220828T201031Z
UID:2354-1772649000-1772656200@linksofsandpiper.com
SUMMARY:Trivia @ 6:30PM
DESCRIPTION:
URL:https://linksofsandpiper.com/event/trivia-700pm-2026-03-04/
END:VEVENT
BEGIN:VEVENT
DTSTART;VALUE=DATE:20260306
DTEND;VALUE=DATE:20260307
DTSTAMP:20260423T062224
CREATED:20220828T203138Z
LAST-MODIFIED:20220828T203138Z
UID:2355-1772755200-1772841599@linksofsandpiper.com
SUMMARY:Fish Friday
DESCRIPTION:
URL:https://linksofsandpiper.com/event/fish-friday-2026-03-06/
END:VEVENT
BEGIN:VEVENT
DTSTART;TZID=America/New_York:20260309T183000
DTEND;TZID=America/New_York:20260309T203000
DTSTAMP:20260423T062224
CREATED:20220828T203102Z
LAST-MODIFIED:20220828T203102Z
UID:2356-1773081000-1773088200@linksofsandpiper.com
SUMMARY:BINGO! @ 6:30pm
DESCRIPTION:
URL:https://linksofsandpiper.com/event/bingo-630pm-2026-03-09/
END:VEVENT
BEGIN:VEVENT
DTSTART;VALUE=DATE:20260310
DTEND;VALUE=DATE:20260311
DTSTAMP:20260423T062224
CREATED:20220828T202954Z
LAST-MODIFIED:20220828T202954Z
UID:2357-1773100800-1773187199@linksofsandpiper.com
SUMMARY:Fiesta Tuesday
DESCRIPTION:
URL:https://linksofsandpiper.com/event/fiesta-tuesday-2026-03-10/
END:VEVENT
BEGIN:VEVENT
DTSTART;TZID=America/New_York:20260311T183000
DTEND;TZID=America/New_York:20260311T203000
DTSTAMP:20260423T062224
CREATED:20220828T201031Z
LAST-MODIFIED:20220828T201031Z
UID:2358-1773253800-1773261000@linksofsandpiper.com
SUMMARY:Trivia @ 6:30PM
DESCRIPTION:
URL:https://linksofsandpiper.com/event/trivia-700pm-2026-03-11/
END:VEVENT
BEGIN:VEVENT
DTSTART;VALUE=DATE:20260313
DTEND;VALUE=DATE:20260314
DTSTAMP:20260423T062224
CREATED:20220828T203138Z
LAST-MODIFIED:20220828T203138Z
UID:2359-1773360000-1773446399@linksofsandpiper.com
SUMMARY:Fish Friday
DESCRIPTION:
URL:https://linksofsandpiper.com/event/fish-friday-2026-03-13/
END:VEVENT
BEGIN:VEVENT
DTSTART;TZID=America/New_York:20260316T183000
DTEND;TZID=America/New_York:20260316T203000
DTSTAMP:20260423T062224
CREATED:20220828T203102Z
LAST-MODIFIED:20220828T203102Z
UID:2360-1773685800-1773693000@linksofsandpiper.com
SUMMARY:BINGO! @ 6:30pm
DESCRIPTION:
URL:https://linksofsandpiper.com/event/bingo-630pm-2026-03-16/
END:VEVENT
BEGIN:VEVENT
DTSTART;VALUE=DATE:20260317
DTEND;VALUE=DATE:20260318
DTSTAMP:20260423T062224
CREATED:20220828T202954Z
LAST-MODIFIED:20220828T202954Z
UID:2361-1773705600-1773791999@linksofsandpiper.com
SUMMARY:Fiesta Tuesday
DESCRIPTION:
URL:https://linksofsandpiper.com/event/fiesta-tuesday-2026-03-17/
END:VEVENT
BEGIN:VEVENT
DTSTART;TZID=America/New_York:20260318T183000
DTEND;TZID=America/New_York:20260318T203000
DTSTAMP:20260423T062224
CREATED:20220828T201031Z
LAST-MODIFIED:20220828T201031Z
UID:2362-1773858600-1773865800@linksofsandpiper.com
SUMMARY:Trivia @ 6:30PM
DESCRIPTION:
URL:https://linksofsandpiper.com/event/trivia-700pm-2026-03-18/
END:VEVENT
BEGIN:VEVENT
DTSTART;VALUE=DATE:20260320
DTEND;VALUE=DATE:20260321
DTSTAMP:20260423T062224
CREATED:20220828T203138Z
LAST-MODIFIED:20220828T203138Z
UID:2363-1773964800-1774051199@linksofsandpiper.com
SUMMARY:Fish Friday
DESCRIPTION:
URL:https://linksofsandpiper.com/event/fish-friday-2026-03-20/
END:VEVENT
BEGIN:VEVENT
DTSTART;TZID=America/New_York:20260323T183000
DTEND;TZID=America/New_York:20260323T203000
DTSTAMP:20260423T062224
CREATED:20220828T203102Z
LAST-MODIFIED:20220828T203102Z
UID:2364-1774290600-1774297800@linksofsandpiper.com
SUMMARY:BINGO! @ 6:30pm
DESCRIPTION:
URL:https://linksofsandpiper.com/event/bingo-630pm-2026-03-23/
END:VEVENT
BEGIN:VEVENT
DTSTART;VALUE=DATE:20260324
DTEND;VALUE=DATE:20260325
DTSTAMP:20260423T062224
CREATED:20220828T202954Z
LAST-MODIFIED:20220828T202954Z
UID:2365-1774310400-1774396799@linksofsandpiper.com
SUMMARY:Fiesta Tuesday
DESCRIPTION:
URL:https://linksofsandpiper.com/event/fiesta-tuesday-2026-03-24/
END:VEVENT
BEGIN:VEVENT
DTSTART;TZID=America/New_York:20260325T183000
DTEND;TZID=America/New_York:20260325T203000
DTSTAMP:20260423T062224
CREATED:20220828T201031Z
LAST-MODIFIED:20220828T201031Z
UID:2366-1774463400-1774470600@linksofsandpiper.com
SUMMARY:Trivia @ 6:30PM
DESCRIPTION:
URL:https://linksofsandpiper.com/event/trivia-700pm-2026-03-25/
END:VEVENT
BEGIN:VEVENT
DTSTART;VALUE=DATE:20260327
DTEND;VALUE=DATE:20260328
DTSTAMP:20260423T062224
CREATED:20220828T203138Z
LAST-MODIFIED:20220828T203138Z
UID:2367-1774569600-1774655999@linksofsandpiper.com
SUMMARY:Fish Friday
DESCRIPTION:
URL:https://linksofsandpiper.com/event/fish-friday-2026-03-27/
END:VEVENT
BEGIN:VEVENT
DTSTART;TZID=America/New_York:20260330T183000
DTEND;TZID=America/New_York:20260330T203000
DTSTAMP:20260423T062224
CREATED:20220828T203102Z
LAST-MODIFIED:20220828T203102Z
UID:2368-1774895400-1774902600@linksofsandpiper.com
SUMMARY:BINGO! @ 6:30pm
DESCRIPTION:
URL:https://linksofsandpiper.com/event/bingo-630pm-2026-03-30/
END:VEVENT
BEGIN:VEVENT
DTSTART;VALUE=DATE:20260331
DTEND;VALUE=DATE:20260401
DTSTAMP:20260423T062224
CREATED:20220828T202954Z
LAST-MODIFIED:20220828T202954Z
UID:2369-1774915200-1775001599@linksofsandpiper.com
SUMMARY:Fiesta Tuesday
DESCRIPTION:
URL:https://linksofsandpiper.com/event/fiesta-tuesday-2026-03-31/
END:VEVENT
END:VCALENDAR