BEGIN:VCALENDAR
VERSION:2.0
PRODID:-//Links of Sandpiper - ECPv6.15.10//NONSGML v1.0//EN
CALSCALE:GREGORIAN
METHOD:PUBLISH
X-ORIGINAL-URL:https://linksofsandpiper.com
X-WR-CALDESC:Events for Links of Sandpiper
REFRESH-INTERVAL;VALUE=DURATION:PT1H
X-Robots-Tag:noindex
X-PUBLISHED-TTL:PT1H
BEGIN:VTIMEZONE
TZID:America/New_York
BEGIN:DAYLIGHT
TZOFFSETFROM:-0500
TZOFFSETTO:-0400
TZNAME:EDT
DTSTART:20240310T070000
END:DAYLIGHT
BEGIN:STANDARD
TZOFFSETFROM:-0400
TZOFFSETTO:-0500
TZNAME:EST
DTSTART:20241103T060000
END:STANDARD
BEGIN:DAYLIGHT
TZOFFSETFROM:-0500
TZOFFSETTO:-0400
TZNAME:EDT
DTSTART:20250309T070000
END:DAYLIGHT
BEGIN:STANDARD
TZOFFSETFROM:-0400
TZOFFSETTO:-0500
TZNAME:EST
DTSTART:20251102T060000
END:STANDARD
BEGIN:DAYLIGHT
TZOFFSETFROM:-0500
TZOFFSETTO:-0400
TZNAME:EDT
DTSTART:20260308T070000
END:DAYLIGHT
BEGIN:STANDARD
TZOFFSETFROM:-0400
TZOFFSETTO:-0500
TZNAME:EST
DTSTART:20261101T060000
END:STANDARD
END:VTIMEZONE
BEGIN:VEVENT
DTSTART;TZID=America/New_York:20250901T183000
DTEND;TZID=America/New_York:20250901T203000
DTSTAMP:20260423T143910
CREATED:20220828T203102Z
LAST-MODIFIED:20220828T203102Z
UID:2239-1756751400-1756758600@linksofsandpiper.com
SUMMARY:BINGO! @ 6:30pm
DESCRIPTION:
URL:https://linksofsandpiper.com/event/bingo-630pm-2025-09-01/
END:VEVENT
BEGIN:VEVENT
DTSTART;VALUE=DATE:20250902
DTEND;VALUE=DATE:20250903
DTSTAMP:20260423T143910
CREATED:20220828T202954Z
LAST-MODIFIED:20220828T202954Z
UID:2240-1756771200-1756857599@linksofsandpiper.com
SUMMARY:Fiesta Tuesday
DESCRIPTION:
URL:https://linksofsandpiper.com/event/fiesta-tuesday-2025-09-02/
END:VEVENT
BEGIN:VEVENT
DTSTART;TZID=America/New_York:20250903T183000
DTEND;TZID=America/New_York:20250903T203000
DTSTAMP:20260423T143910
CREATED:20220828T201031Z
LAST-MODIFIED:20220828T201031Z
UID:2241-1756924200-1756931400@linksofsandpiper.com
SUMMARY:Trivia @ 6:30PM
DESCRIPTION:
URL:https://linksofsandpiper.com/event/trivia-700pm-2025-09-03/
END:VEVENT
BEGIN:VEVENT
DTSTART;VALUE=DATE:20250905
DTEND;VALUE=DATE:20250906
DTSTAMP:20260423T143910
CREATED:20220828T203138Z
LAST-MODIFIED:20220828T203138Z
UID:2242-1757030400-1757116799@linksofsandpiper.com
SUMMARY:Fish Friday
DESCRIPTION:
URL:https://linksofsandpiper.com/event/fish-friday-2025-09-05/
END:VEVENT
BEGIN:VEVENT
DTSTART;TZID=America/New_York:20250908T183000
DTEND;TZID=America/New_York:20250908T203000
DTSTAMP:20260423T143910
CREATED:20220828T203102Z
LAST-MODIFIED:20220828T203102Z
UID:2243-1757356200-1757363400@linksofsandpiper.com
SUMMARY:BINGO! @ 6:30pm
DESCRIPTION:
URL:https://linksofsandpiper.com/event/bingo-630pm-2025-09-08/
END:VEVENT
BEGIN:VEVENT
DTSTART;VALUE=DATE:20250909
DTEND;VALUE=DATE:20250910
DTSTAMP:20260423T143910
CREATED:20220828T202954Z
LAST-MODIFIED:20220828T202954Z
UID:2244-1757376000-1757462399@linksofsandpiper.com
SUMMARY:Fiesta Tuesday
DESCRIPTION:
URL:https://linksofsandpiper.com/event/fiesta-tuesday-2025-09-09/
END:VEVENT
BEGIN:VEVENT
DTSTART;TZID=America/New_York:20250910T183000
DTEND;TZID=America/New_York:20250910T203000
DTSTAMP:20260423T143910
CREATED:20220828T201031Z
LAST-MODIFIED:20220828T201031Z
UID:2245-1757529000-1757536200@linksofsandpiper.com
SUMMARY:Trivia @ 6:30PM
DESCRIPTION:
URL:https://linksofsandpiper.com/event/trivia-700pm-2025-09-10/
END:VEVENT
BEGIN:VEVENT
DTSTART;VALUE=DATE:20250912
DTEND;VALUE=DATE:20250913
DTSTAMP:20260423T143910
CREATED:20220828T203138Z
LAST-MODIFIED:20220828T203138Z
UID:2246-1757635200-1757721599@linksofsandpiper.com
SUMMARY:Fish Friday
DESCRIPTION:
URL:https://linksofsandpiper.com/event/fish-friday-2025-09-12/
END:VEVENT
BEGIN:VEVENT
DTSTART;TZID=America/New_York:20250915T183000
DTEND;TZID=America/New_York:20250915T203000
DTSTAMP:20260423T143910
CREATED:20220828T203102Z
LAST-MODIFIED:20220828T203102Z
UID:2247-1757961000-1757968200@linksofsandpiper.com
SUMMARY:BINGO! @ 6:30pm
DESCRIPTION:
URL:https://linksofsandpiper.com/event/bingo-630pm-2025-09-15/
END:VEVENT
BEGIN:VEVENT
DTSTART;VALUE=DATE:20250916
DTEND;VALUE=DATE:20250917
DTSTAMP:20260423T143910
CREATED:20220828T202954Z
LAST-MODIFIED:20220828T202954Z
UID:2248-1757980800-1758067199@linksofsandpiper.com
SUMMARY:Fiesta Tuesday
DESCRIPTION:
URL:https://linksofsandpiper.com/event/fiesta-tuesday-2025-09-16/
END:VEVENT
BEGIN:VEVENT
DTSTART;TZID=America/New_York:20250917T183000
DTEND;TZID=America/New_York:20250917T203000
DTSTAMP:20260423T143910
CREATED:20220828T201031Z
LAST-MODIFIED:20220828T201031Z
UID:2249-1758133800-1758141000@linksofsandpiper.com
SUMMARY:Trivia @ 6:30PM
DESCRIPTION:
URL:https://linksofsandpiper.com/event/trivia-700pm-2025-09-17/
END:VEVENT
BEGIN:VEVENT
DTSTART;VALUE=DATE:20250919
DTEND;VALUE=DATE:20250920
DTSTAMP:20260423T143910
CREATED:20220828T203138Z
LAST-MODIFIED:20220828T203138Z
UID:2250-1758240000-1758326399@linksofsandpiper.com
SUMMARY:Fish Friday
DESCRIPTION:
URL:https://linksofsandpiper.com/event/fish-friday-2025-09-19/
END:VEVENT
BEGIN:VEVENT
DTSTART;TZID=America/New_York:20250922T183000
DTEND;TZID=America/New_York:20250922T203000
DTSTAMP:20260423T143910
CREATED:20220828T203102Z
LAST-MODIFIED:20220828T203102Z
UID:2251-1758565800-1758573000@linksofsandpiper.com
SUMMARY:BINGO! @ 6:30pm
DESCRIPTION:
URL:https://linksofsandpiper.com/event/bingo-630pm-2025-09-22/
END:VEVENT
BEGIN:VEVENT
DTSTART;VALUE=DATE:20250923
DTEND;VALUE=DATE:20250924
DTSTAMP:20260423T143910
CREATED:20220828T202954Z
LAST-MODIFIED:20220828T202954Z
UID:2252-1758585600-1758671999@linksofsandpiper.com
SUMMARY:Fiesta Tuesday
DESCRIPTION:
URL:https://linksofsandpiper.com/event/fiesta-tuesday-2025-09-23/
END:VEVENT
BEGIN:VEVENT
DTSTART;TZID=America/New_York:20250924T183000
DTEND;TZID=America/New_York:20250924T203000
DTSTAMP:20260423T143910
CREATED:20220828T201031Z
LAST-MODIFIED:20220828T201031Z
UID:2253-1758738600-1758745800@linksofsandpiper.com
SUMMARY:Trivia @ 6:30PM
DESCRIPTION:
URL:https://linksofsandpiper.com/event/trivia-700pm-2025-09-24/
END:VEVENT
BEGIN:VEVENT
DTSTART;VALUE=DATE:20250926
DTEND;VALUE=DATE:20250927
DTSTAMP:20260423T143910
CREATED:20220828T203138Z
LAST-MODIFIED:20220828T203138Z
UID:2256-1758844800-1758931199@linksofsandpiper.com
SUMMARY:Fish Friday
DESCRIPTION:
URL:https://linksofsandpiper.com/event/fish-friday-2025-09-26/
END:VEVENT
BEGIN:VEVENT
DTSTART;TZID=America/New_York:20250929T183000
DTEND;TZID=America/New_York:20250929T203000
DTSTAMP:20260423T143910
CREATED:20220828T203102Z
LAST-MODIFIED:20220828T203102Z
UID:2259-1759170600-1759177800@linksofsandpiper.com
SUMMARY:BINGO! @ 6:30pm
DESCRIPTION:
URL:https://linksofsandpiper.com/event/bingo-630pm-2025-09-29/
END:VEVENT
BEGIN:VEVENT
DTSTART;VALUE=DATE:20250930
DTEND;VALUE=DATE:20251001
DTSTAMP:20260423T143910
CREATED:20220828T202954Z
LAST-MODIFIED:20220828T202954Z
UID:2260-1759190400-1759276799@linksofsandpiper.com
SUMMARY:Fiesta Tuesday
DESCRIPTION:
URL:https://linksofsandpiper.com/event/fiesta-tuesday-2025-09-30/
END:VEVENT
END:VCALENDAR